BEGIN:VCALENDAR
PRODID:-//eluceo/ical//2.0/EN
VERSION:2.0
CALSCALE:GREGORIAN
BEGIN:VEVENT
UID:event-608
DTSTAMP:20260425T111810Z
SUMMARY:Eerbetoon ereveld Loenen (7 Kruizen)
DESCRIPTION:
DTSTART:20230926T080000Z
DTEND:20230926T120000Z
LOCATION:Loenen
END:VEVENT
BEGIN:VTIMEZONE
TZID:UTC
BEGIN:STANDARD
DTSTART:20230926T080000
TZNAME:UTC
TZOFFSETTO:+0000
TZOFFSETFROM:+0000
END:STANDARD
END:VTIMEZONE
END:VCALENDAR
