BEGIN:VCALENDAR
PRODID:-//eluceo/ical//2.0/EN
VERSION:2.0
CALSCALE:GREGORIAN
BEGIN:VEVENT
UID:event-981
DTSTAMP:20260420T135044Z
SUMMARY:3e Beëdiging Regiment B&T
DESCRIPTION:Programma:   Tenue voor genodigden: Militair DT 2\, Burgers te
 nue de ville
DTSTART:20260512T060000Z
DTEND:20260512T140000Z
END:VEVENT
BEGIN:VTIMEZONE
TZID:UTC
BEGIN:STANDARD
DTSTART:20260512T060000
TZNAME:UTC
TZOFFSETTO:+0000
TZOFFSETFROM:+0000
END:STANDARD
END:VTIMEZONE
END:VCALENDAR
